BEGIN:VCALENDAR
VERSION:2.0
PRODID:-//Goodies on the Go With Brigitte - ECPv6.15.20//NONSGML v1.0//EN
CALSCALE:GREGORIAN
METHOD:PUBLISH
X-WR-CALNAME:Goodies on the Go With Brigitte
X-ORIGINAL-URL:https://getgoodiesonthego.com
X-WR-CALDESC:Events for Goodies on the Go With Brigitte
REFRESH-INTERVAL;VALUE=DURATION:PT1H
X-Robots-Tag:noindex
X-PUBLISHED-TTL:PT1H
BEGIN:VTIMEZONE
TZID:UTC
BEGIN:STANDARD
TZOFFSETFROM:+0000
TZOFFSETTO:+0000
TZNAME:UTC
DTSTART:20240101T000000
END:STANDARD
END:VTIMEZONE
BEGIN:VEVENT
DTSTART;TZID=UTC:20250803T100000
DTEND;TZID=UTC:20250803T160000
DTSTAMP:20260423T171540
CREATED:20250812T221902Z
LAST-MODIFIED:20250812T225309Z
UID:832-1754215200-1754236800@getgoodiesonthego.com
SUMMARY:San Diego Food market
DESCRIPTION:
URL:https://getgoodiesonthego.com/event/sundays/
LOCATION:San Diego Food market\, Lane Field Park 1009 N. Harbor Dr. San Diego\, CA 92101\, Lane Field Park 1009 N. Harbor Dr. San Diego\, CA 92101
END:VEVENT
BEGIN:VEVENT
DTSTART;TZID=UTC:20250802T100000
DTEND;TZID=UTC:20250802T160000
DTSTAMP:20260423T171540
CREATED:20250812T231831Z
LAST-MODIFIED:20250812T233912Z
UID:930-1754128800-1754150400@getgoodiesonthego.com
SUMMARY:Viejas Market
DESCRIPTION:
URL:https://getgoodiesonthego.com/event/viejas-market/
LOCATION:Viejas Pit Stop 5454 Willows Rd. Alpine\, CA 91901\, Viejas Pit Stop 5454 Willows Rd. Alpine\, CA 91901
END:VEVENT
END:VCALENDAR